BEGIN:VCALENDAR
VERSION:2.0
PRODID:-//eventon.com NONSGML v1.0//EN
BEGIN:VEVENT
UID:69e8639f4804b
DTSTAMP:20260422T085855
DTSTART:20220510T170000Z
DTEND:20220510T205000Z
TZID:Asia/Jerusalem
LOCATION:Heichal HaTarbut Tel Aviv Huberman Street 1\,  Tel-Aviv
SUMMARY:WANDERING MUSIC STARS FESTIVAL : DENNIS KOZUKHIN
DESCRIPTION: WANDERING MUSIC STARS FESTIVAL : DENNIS KOZUKHIN\nhttps://culturaccess.com/events/wandering-music-stars-festival-dennis-kozukhin/
URL:https://culturaccess.com/events/wandering-music-stars-festival-dennis-kozukhin/
END:VEVENT
END:VCALENDAR