BEGIN:VCALENDAR
VERSION:2.0
PRODID:-//eventon.com NONSGML v1.0//EN
BEGIN:VEVENT
UID:69ea071c4556f
DTSTAMP:20260423T144844
DTSTART:20211114T170000Z
DTEND:20211114T215000Z
TZID:Asia/Jerusalem
LOCATION:Campus Francophone du Collège Académique de Netanya Ha-Universita St 1\,  Netanya
SUMMARY:SERGE GAINSBOURG
DESCRIPTION: SERGE GAINSBOURG\nhttps://culturaccess.com/events/serge-gainsbourg/
URL:https://culturaccess.com/events/serge-gainsbourg/
END:VEVENT
END:VCALENDAR