BEGIN:VCALENDAR
VERSION:2.0
PRODID:-//eventon.com NONSGML v1.0//EN
BEGIN:VEVENT
UID:69e8f935e9ef3
DTSTAMP:20260422T193709
DTSTART:20200224T183000Z
DTEND:20200224T210000Z
TZID:Asia/Jerusalem
LOCATION:Théâtre de Jérusalem Rue David Marcus 20\,  Jérusalem
SUMMARY:ELIXIR D'AMOUR - JERUSALEM
DESCRIPTION: ELIXIR D'AMOUR - JERUSALEM\nhttps://culturaccess.com/events/elixir-damour-jerusalem/
URL:https://culturaccess.com/events/elixir-damour-jerusalem/
END:VEVENT
END:VCALENDAR