BEGIN:VCALENDAR
VERSION:2.0
PRODID:-//eventon.com NONSGML v1.0//EN
BEGIN:VEVENT
UID:69e8e58a95c52
DTSTAMP:20260422T181314
DTSTART:20190917T170000Z
DTEND:20190917T205000Z
TZID:Asia/Jerusalem
LOCATION:Opéra de Tel Aviv Sderot Sha'ul HaMelech 19\,  Tel Aviv-Yafo
SUMMARY:TANGO DEL PLATA - 17/09
DESCRIPTION: TANGO DEL PLATA - 17/09\nhttps://culturaccess.com/events/tango-del-plata-17-09/
URL:https://culturaccess.com/events/tango-del-plata-17-09/
END:VEVENT
END:VCALENDAR