BEGIN:VCALENDAR
VERSION:2.0
PRODID:-//eventon.com NONSGML v1.0//EN
BEGIN:VEVENT
UID:69e8345419d1d
DTSTAMP:20260422T053708
DTSTART:20190815T160000Z
DTEND:20190815T180000Z
TZID:Asia/Jerusalem
LOCATION:Cinémathèque de Tel Aviv HaArba'a Street 5\,  Tel-Aviv\,  Israël
SUMMARY:LE PIANO AMOUREUX
DESCRIPTION: LE PIANO AMOUREUX\nhttps://culturaccess.com/events/le-piano-amoureux/
URL:https://culturaccess.com/events/le-piano-amoureux/
END:VEVENT
END:VCALENDAR