BEGIN:VCALENDAR
VERSION:2.0
PRODID:-//eventon.com NONSGML v1.0//EN
BEGIN:VEVENT
UID:69e7823327d39
DTSTAMP:20260421T165707
DTSTART:20260623T173000Z
DTEND:20260623T205000Z
TZID:Asia/Jerusalem
LOCATION:Eshkol Pais Raanana Rue Hayil 46\,  Raanana
SUMMARY:LES ILLU-SIONISTES
DESCRIPTION: LES ILLU-SIONISTES\nhttps://culturaccess.com/events/les-illu-sionistes/
URL:https://culturaccess.com/events/les-illu-sionistes/
END:VEVENT
END:VCALENDAR