BEGIN:VCALENDAR
VERSION:2.0
PRODID:-//eventon.com NONSGML v1.0//EN
BEGIN:VEVENT
UID:69e4c9a9de6e7
DTSTAMP:20260419T152513
DTSTART:20260616T180000Z
DTEND:20260616T205000Z
TZID:Asia/Jerusalem
LOCATION:Mishkan Leoumanouyot Ashdod Derech Eretz 1\,  Ashdod
SUMMARY:MANIA: ABBA TRIBUTE
DESCRIPTION: MANIA: ABBA TRIBUTE\nhttps://culturaccess.com/events/mania-abba-tribute/
URL:https://culturaccess.com/events/mania-abba-tribute/
END:VEVENT
END:VCALENDAR