BEGIN:VCALENDAR
VERSION:2.0
PRODID:-//eventon.com NONSGML v1.0//EN
BEGIN:VEVENT
UID:69e87c93d5704
DTSTAMP:20260422T104523
DTSTART:20250813T173000Z
DTEND:20250813T205000Z
TZID:Asia/Jerusalem
LOCATION:ZOA House - Beit Zionei America Daniel Frisch\,  1. Tel Aviv
SUMMARY:FREDERIC ZEITOUN EN CONCERT
DESCRIPTION: FREDERIC ZEITOUN EN CONCERT\nhttps://culturaccess.com/events/frederic-zeitoun-en-concert/
URL:https://culturaccess.com/events/frederic-zeitoun-en-concert/
END:VEVENT
END:VCALENDAR