BEGIN:VCALENDAR
VERSION:2.0
PRODID:-//eventon.com NONSGML v1.0//EN
BEGIN:VEVENT
UID:69eb1188e03e6
DTSTAMP:20260424T094528
DTSTART:20230201T183000Z
DTEND:20230201T215000Z
TZID:Asia/Jerusalem
LOCATION:Heichal Hatarbut Netanya Derech Raziel 4\,  Netanya
SUMMARY:LA FILLE DU SULTAN - NETANYA
DESCRIPTION: LA FILLE DU SULTAN - NETANYA\nhttps://culturaccess.com/events/la-fille-du-sultan-netanya/
URL:https://culturaccess.com/events/la-fille-du-sultan-netanya/
END:VEVENT
END:VCALENDAR